BEGIN:VCALENDAR
VERSION:2.0
PRODID:https://github.com/derhansen/sf_event_mgt
METHOD:PUBLISH
BEGIN:VEVENT
UID:6-872@www.gematik.de
CLASS: PUBLIC
SUMMARY:E-Rezept Onlinefortbildung der LÄK & LAK Baden-Württemberg
DESCRIPTION:\n\nDas elektronische Rezept ist eine der zentralen Anwendungen
  bei der Digitalisierung des Gesundheitswesens. Gemeinsam mit der Landesärz
 tekammer Baden-Württemberg und Landesapothekerkammer Baden-Württemberg info
 rmiert die gematik zu den aktuellen Entwicklungen. Neben einer allgemeinen 
 Vorstellung der Funktionen des E-Rezeptes wird zunächst ein Blick auf die E
 insatzmöglichkeiten geworfen. Daran anschließend wird live aus dem Showroom
  zur Digitalisierung der Landesärztekammer das Ausstellen und Einlösen eine
 s E-Rezeptes, mittels gematik-App und der elektronischen Gesundheitskarte (
 eGK) demonstriert. Dazu kommen erste Erfahrungsberichte aus ärztlicher Pers
 pektive und Sicht der Apotheke. Anschließend werden möglichst viele Fragen 
 beantwortet.\n\nIm Showroom zur Digitalisierung der Landesärztekammer Baden
 -Württemberg ist man nun mit Unterstützung der Landesapothekerkammer Baden-
 Württemberg erstmalig in der Lage, den kompletten Prozess des E-Rezeptes, v
 on Ausstellung in der Arztpraxis bis hin zur Einlösung und Ausgabe in der A
 potheke darzustellen. Die Kammern hoffen damit ihren Mitgliedern eine weite
 re wertvolle Unterstützung bei der Umsetzung der Digitalisierung anbieten z
 u können.\n\nFortbildungspunkte:\n\nDie Veranstaltung ist mit 2 Punkten auf
  das Fortbildungszertifikat der Landesärztekammer Baden-Württemberg anerkan
 nt. Bei der Landesapothekerkammer Baden-Württemberg erhalten Sie für diese 
 Veranstaltung ebenfalls 2 Fortbildungspunkte.\n\nEine Niederlassung in Bade
 n-Württemberg ist keine Voraussetzung für die Teilnahme.\n\nZur Anmeldung A
 nleitung erfolgreiche Teilnahme bzw. Registrierung:\n\n 	Aufrufen der Webse
 ite der Landesärztekammer BW: 	ttps://www.aerztekammer-bw.de/ 	Klicken Sie 
 oben rechts bei den drei waagerechten Strichen auf „Menü“ 	Klick auf„ Meine
  Ärztekammer –Anmelden oder registrieren“ 	Es öffnet sich eine Login-Maske:
  	a. Wenn Sie schon registriert sind, geben Sie an dieser Stelle Ihre Anmel
 dedaten ein und klicken auf „Anmelden“ oder bestätigen Sie Ihre Eingabe dur
 ch die Enter-Taste 	b. Sie haben noch kein Account bei uns? Dann klicken Si
 e ganz unten auf „Jetzt registrieren“ und führen den Registrierungsprozess 
 durch. Anschließend geben Sie im Login-Bereich Ihre Anmeldedaten ein (siehe
  a) 	Sie sind nun in Ihrem eigenen Profil der Landesärztekammer BW angemeld
 et 	Gehen Sie wieder oben rechts zu den drei waagerechten Strichen auf „Men
 ü“ und klicken Sie dort nun auf „Dashboard“ 	Unter den Auflistungspunkten „
 Portalanwendungen“ (rechte Spalte) gelangen Sie unter „SV Med (Fortbildunge
 n der Ärztekammern)“ zum Veranstaltungskalender --> anklicken 	Es öffnet si
 ch nun der SVmed-Veranstaltungskalender, in welchem Sie im Freifeld „Suche“
  den Kurs Onlinefortbildung zum E-Rezept  eingeben können 	Wählen Sie den g
 ewünschten Kurs aus, indem Sie das Angebot einmal anklicken, sodass es blau
  hinterlegt ist und klicken Sie anschließend am unteren Ende des Fensters a
 uf den Button „Öffnen“ 	Es öffnet sich ein neues Fenster mit allen wichtige
 n Info´s zum Kurs. Am Ende des Fensters können Sie sich über den Anmelde-Bu
 tton für den Kurs in Ihrem Namen „anmelden“ 	Hinweis: In diesen Veranstaltu
 ngsdetails finden Sie auch den Link, über welchen Sie dann den Kurs starten
  können (einfach Link rauskopieren und im Browser einfügen). 
LOCATION:Online-Event
DTSTAMP:20230616T104300Z
DTSTART:20230623T120000Z
DTEND:20230623T133000Z
END:VEVENT
END:VCALENDAR
